BEGIN:VCALENDAR
VERSION:2.0
PRODID:spatie/icalendar-generator
DESCRIPTION:Veranstaltungen von FC Deetz e.V.
X-WR-CALDESC:Veranstaltungen von FC Deetz e.V.
REFRESH-INTERVAL;VALUE=DURATION:PT1440M
X-PUBLISHED-TTL:PT1440M
BEGIN:VTIMEZONE
TZID:Europe/Berlin
BEGIN:DAYLIGHT
DTSTART:20230326T020000Z
TZOFFSETFROM:+0100
TZOFFSETTO:+0200
END:DAYLIGHT
BEGIN:STANDARD
DTSTART:20231029T030000Z
TZOFFSETFROM:+0200
TZOFFSETTO:+0100
END:STANDARD
BEGIN:DAYLIGHT
DTSTART:20240331T020000Z
TZOFFSETFROM:+0100
TZOFFSETTO:+0200
END:DAYLIGHT
END:VTIMEZONE
BEGIN:VTIMEZONE
TZID:UTC
BEGIN:STANDARD
DTSTART:20250725T083849Z
TZOFFSETFROM:+0000
TZOFFSETTO:+0000
END:STANDARD
END:VTIMEZONE
BEGIN:VEVENT
UID:1468-148
DTSTAMP:20260421T083849Z
SUMMARY:Dietlinde Venske
LOCATION:
ORGANIZER;CN=admin:MAILTO:admin@fc-deetz.de
RRULE:FREQ=YEARLY;BYMONTH=12;BYDAY=11;UNTIL=20331211T000000Z
DTSTART;TZID=Europe/Berlin;VALUE=DATE:20231211
DTEND;TZID=Europe/Berlin;VALUE=DATE:20231212
X-ALT-DESC;FMTTYPE=TEXT/HTML:
CATEGORIES:Geburtstage
URL;VALUE=URI:https://fc-deetz.de/mc-events/dietlinde-venske/?mc_id=1468
METHOD:PUBLISH
END:VEVENT
END:VCALENDAR